BEGIN:VCALENDAR
VERSION:2.0
PRODID:-//AIMenta//AIMenta AI Events//EN
CALSCALE:GREGORIAN
METHOD:PUBLISH
X-WR-CALNAME:AIMenta AI Events
X-WR-CALDESC:Conferences, regulation deadlines, training, and product launches across the global AI ecosystem with an APAC focus — curated by AIMenta.
X-WR-TIMEZONE:UTC
BEGIN:VEVENT
UID:korea-ai-basic-act-implementation@aimenta.ai
DTSTAMP:20260418T105137Z
DTSTART;VALUE=DATE:20260122
DTEND;VALUE=DATE:20260123
SUMMARY:Korea AI Basic Act — implementation phase
LOCATION:Seoul, South Korea
DESCRIPTION:Korea's AI Framework Act takes effect in January 2026, creating obligations for high-impact and generative AI systems.
URL:https://aimenta.ai/calendar/korea-ai-basic-act-implementation
END:VEVENT
BEGIN:VEVENT
UID:rise-conference-hong-kong-2026@aimenta.ai
DTSTAMP:20260418T105136Z
DTSTART;VALUE=DATE:20260309
DTEND;VALUE=DATE:20260313
SUMMARY:RISE Hong Kong 2026
LOCATION:AsiaWorld-Expo, Hong Kong, Hong Kong
DESCRIPTION:Web Summit's Asia event. Brings 15,000+ founders, investors, and enterprise buyers to Hong Kong each spring.
URL:https://aimenta.ai/calendar/rise-conference-hong-kong-2026
X-ALT-DESC;FMTTYPE=text/html:<a href="https://riseconf.com">Official website</a>
END:VEVENT
BEGIN:VEVENT
UID:google-cloud-next-2026@aimenta.ai
DTSTAMP:20260418T105137Z
DTSTART;VALUE=DATE:20260414
DTEND;VALUE=DATE:20260417
SUMMARY:Google Cloud Next 2026
LOCATION:Las Vegas, United States
DESCRIPTION:Google Cloud's annual launch event. Gemini model updates, Vertex AI, and enterprise AI customer stories.
URL:https://aimenta.ai/calendar/google-cloud-next-2026
X-ALT-DESC;FMTTYPE=text/html:<a href="https://cloud.withgoogle.com/next">Official website</a>
END:VEVENT
BEGIN:VEVENT
UID:gitex-asia-singapore-2026@aimenta.ai
DTSTAMP:20260418T105136Z
DTSTART;VALUE=DATE:20260421
DTEND;VALUE=DATE:20260424
SUMMARY:GITEX Asia Singapore 2026
LOCATION:Singapore, Singapore
DESCRIPTION:GITEX brand expanding into ASEAN. Enterprise AI, cybersecurity, and the regional channel ecosystem.
URL:https://aimenta.ai/calendar/gitex-asia-singapore-2026
END:VEVENT
BEGIN:VEVENT
UID:iclr-2026-vienna@aimenta.ai
DTSTAMP:20260418T105136Z
DTSTART;VALUE=DATE:20260427
DTEND;VALUE=DATE:20260502
SUMMARY:ICLR 2026 — International Conference on Learning Representations
LOCATION:Vienna, Austria
DESCRIPTION:One of the top three ML research conferences. Where new architectures, training methods, and evaluation paradigms get peer-reviewed.
URL:https://aimenta.ai/calendar/iclr-2026-vienna
X-ALT-DESC;FMTTYPE=text/html:<a href="https://iclr.cc">Official website</a>
END:VEVENT
BEGIN:VEVENT
UID:microsoft-build-2026@aimenta.ai
DTSTAMP:20260418T105137Z
DTSTART;VALUE=DATE:20260519
DTEND;VALUE=DATE:20260522
SUMMARY:Microsoft Build 2026
LOCATION:Seattle, United States
DESCRIPTION:Microsoft's annual developer event. Azure AI Foundry, Copilot Studio, and the M365 Copilot roadmap.
URL:https://aimenta.ai/calendar/microsoft-build-2026
X-ALT-DESC;FMTTYPE=text/html:<a href="https://build.microsoft.com">Official website</a>
END:VEVENT
BEGIN:VEVENT
UID:aimenta-rag-engineering-bootcamp-may-2026@aimenta.ai
DTSTAMP:20260418T105137Z
DTSTART;VALUE=DATE:20260525
DTEND;VALUE=DATE:20260528
SUMMARY:AIMenta RAG Engineering Bootcamp — May 2026
LOCATION:Singapore, Singapore
DESCRIPTION:Hands-on engineering bootcamp on production-grade RAG. Hybrid retrieval, reranking, evaluation harnesses, and agent integration.
URL:https://aimenta.ai/calendar/aimenta-rag-engineering-bootcamp-may-2026
END:VEVENT
BEGIN:VEVENT
UID:china-ai-law-second-reading@aimenta.ai
DTSTAMP:20260418T105137Z
DTSTART;VALUE=DATE:20260601
DTEND;VALUE=DATE:20260602
SUMMARY:China AI Law — anticipated second reading
LOCATION:Beijing, China
DESCRIPTION:China's comprehensive AI Law expected to advance to second reading at the NPC during 2026.
URL:https://aimenta.ai/calendar/china-ai-law-second-reading
END:VEVENT
BEGIN:VEVENT
UID:taipei-computex-2026@aimenta.ai
DTSTAMP:20260418T105136Z
DTSTART;VALUE=DATE:20260602
DTEND;VALUE=DATE:20260606
SUMMARY:Computex Taipei 2026
LOCATION:Taipei Nangang Exhibition Center, Taipei, Taiwan
DESCRIPTION:The global PC and AI-server hardware industry's home event. NVIDIA, AMD, Intel, and Taiwan's OEM ecosystem.
URL:https://aimenta.ai/calendar/taipei-computex-2026
X-ALT-DESC;FMTTYPE=text/html:<a href="https://www.computextaipei.com.tw">Official website</a>
END:VEVENT
BEGIN:VEVENT
UID:cvpr-2026-nashville@aimenta.ai
DTSTAMP:20260418T105136Z
DTSTART;VALUE=DATE:20260608
DTEND;VALUE=DATE:20260613
SUMMARY:CVPR 2026
LOCATION:Nashville, TN, United States
DESCRIPTION:The top computer vision research conference. Vision-language models, 3D understanding, video, and robotics perception.
URL:https://aimenta.ai/calendar/cvpr-2026-nashville
X-ALT-DESC;FMTTYPE=text/html:<a href="https://cvpr.thecvf.com">Official website</a>
END:VEVENT
BEGIN:VEVENT
UID:apple-wwdc-2026@aimenta.ai
DTSTAMP:20260418T105137Z
DTSTART;VALUE=DATE:20260608
DTEND;VALUE=DATE:20260613
SUMMARY:Apple WWDC 2026
LOCATION:Cupertino, United States
DESCRIPTION:Apple's annual developer conference. Apple Intelligence updates, on-device AI, and Private Cloud Compute roadmap.
URL:https://aimenta.ai/calendar/apple-wwdc-2026
X-ALT-DESC;FMTTYPE=text/html:<a href="https://developer.apple.com/wwdc">Official website</a>
END:VEVENT
BEGIN:VEVENT
UID:databricks-data-ai-summit-2026@aimenta.ai
DTSTAMP:20260418T105137Z
DTSTART;VALUE=DATE:20260615
DTEND;VALUE=DATE:20260619
SUMMARY:Databricks Data + AI Summit 2026
LOCATION:San Francisco, United States
DESCRIPTION:Databricks' annual event. Mosaic AI, Unity Catalog, model training and serving on the lakehouse.
URL:https://aimenta.ai/calendar/databricks-data-ai-summit-2026
END:VEVENT
BEGIN:VEVENT
UID:aimenta-agentic-ai-workshop-tokyo-2026@aimenta.ai
DTSTAMP:20260418T105137Z
DTSTART;VALUE=DATE:20260618
DTEND;VALUE=DATE:20260620
SUMMARY:AIMenta Agentic AI Workshop — Tokyo
LOCATION:Tokyo, Japan
DESCRIPTION:Two-day workshop on production-grade agent design. Tool use, MCP, multi-agent orchestration, evaluation, and safety.
URL:https://aimenta.ai/calendar/aimenta-agentic-ai-workshop-tokyo-2026
END:VEVENT
BEGIN:VEVENT
UID:snowflake-summit-2026@aimenta.ai
DTSTAMP:20260418T105137Z
DTSTART;VALUE=DATE:20260622
DTEND;VALUE=DATE:20260626
SUMMARY:Snowflake Summit 2026
LOCATION:San Francisco, United States
DESCRIPTION:Snowflake's annual conference. Cortex AI, Snowpark, and the data-cloud-native AI architecture.
URL:https://aimenta.ai/calendar/snowflake-summit-2026
END:VEVENT
BEGIN:VEVENT
UID:world-ai-conference-shanghai-2026@aimenta.ai
DTSTAMP:20260420T024940Z
DTSTART;VALUE=DATE:20260704
DTEND;VALUE=DATE:20260708
SUMMARY:World AI Conference (WAIC) Shanghai 2026
LOCATION:Shanghai World Expo Center, Shanghai, China
DESCRIPTION:China's premier AI gathering. Government, frontier labs, and industry meet on policy, foundation models, and embodied AI.
URL:https://aimenta.ai/calendar/world-ai-conference-shanghai-2026
X-ALT-DESC;FMTTYPE=text/html:<a href="https://www.worldaic.com.cn">Official website</a>
END:VEVENT
BEGIN:VEVENT
UID:aimenta-ai-leaders-cohort-q3-2026@aimenta.ai
DTSTAMP:20260418T105137Z
DTSTART;VALUE=DATE:20260713
DTEND;VALUE=DATE:20260905
SUMMARY:AIMenta AI Leaders Program — Q3 2026 cohort
LOCATION:Hybrid — Hong Kong, Hong Kong
DESCRIPTION:AIMenta's flagship 8-week executive program for AI strategy leaders. Hybrid Hong Kong + Singapore.
URL:https://aimenta.ai/calendar/aimenta-ai-leaders-cohort-q3-2026
END:VEVENT
BEGIN:VEVENT
UID:icml-2026-seoul@aimenta.ai
DTSTAMP:20260418T105137Z
DTSTART;VALUE=DATE:20260719
DTEND;VALUE=DATE:20260726
SUMMARY:ICML 2026 — Seoul
LOCATION:Seoul, South Korea
DESCRIPTION:ICML returns to Seoul. Top-tier machine learning research with strong APAC representation.
URL:https://aimenta.ai/calendar/icml-2026-seoul
X-ALT-DESC;FMTTYPE=text/html:<a href="https://icml.cc">Official website</a>
END:VEVENT
BEGIN:VEVENT
UID:eu-ai-act-gpai-obligations-effective@aimenta.ai
DTSTAMP:20260418T105137Z
DTSTART;VALUE=DATE:20260802
DTEND;VALUE=DATE:20260803
SUMMARY:EU AI Act — General-Purpose AI obligations effective
LOCATION:Brussels, European Union
DESCRIPTION:GPAI provider obligations under the EU AI Act take full effect. Documentation, copyright compliance, and transparency requirements binding.
URL:https://aimenta.ai/calendar/eu-ai-act-gpai-obligations-effective
X-ALT-DESC;FMTTYPE=text/html:<a href="https://artificialintelligenceact.eu">Official website</a>
END:VEVENT
BEGIN:VEVENT
UID:eu-ai-act-high-risk-effective@aimenta.ai
DTSTAMP:20260418T105137Z
DTSTART;VALUE=DATE:20260802
DTEND;VALUE=DATE:20260803
SUMMARY:EU AI Act — High-risk system obligations effective
LOCATION:Brussels, European Union
DESCRIPTION:Most high-risk AI systems (employment, education, essential services) must meet AI Act obligations from this date.
URL:https://aimenta.ai/calendar/eu-ai-act-high-risk-effective
END:VEVENT
BEGIN:VEVENT
UID:japan-ai-bill-implementation@aimenta.ai
DTSTAMP:20260418T105137Z
DTSTART;VALUE=DATE:20260901
DTEND;VALUE=DATE:20260902
SUMMARY:Japan AI Bill implementation milestones
LOCATION:Tokyo, Japan
DESCRIPTION:Japan's AI policy framework continues to operationalize through METI and Digital Agency guidelines.
URL:https://aimenta.ai/calendar/japan-ai-bill-implementation
END:VEVENT
BEGIN:VEVENT
UID:singapore-ai-summit-2026@aimenta.ai
DTSTAMP:20260418T105136Z
DTSTART;VALUE=DATE:20260908
DTEND;VALUE=DATE:20260911
SUMMARY:Singapore AI Summit 2026
LOCATION:Marina Bay Sands Expo, Singapore, Singapore
DESCRIPTION:Singapore's AISG-anchored summit on enterprise AI adoption, regulation, and the ASEAN AI ecosystem.
URL:https://aimenta.ai/calendar/singapore-ai-summit-2026
END:VEVENT
BEGIN:VEVENT
UID:kotra-ai-korea-2026@aimenta.ai
DTSTAMP:20260418T105136Z
DTSTART;VALUE=DATE:20260923
DTEND;VALUE=DATE:20260926
SUMMARY:AI Korea 2026
LOCATION:COEX Seoul, Seoul, South Korea
DESCRIPTION:Korea's flagship AI event. Sovereign LLM efforts, semiconductor AI, and chaebol AI strategy.
URL:https://aimenta.ai/calendar/kotra-ai-korea-2026
END:VEVENT
BEGIN:VEVENT
UID:meta-connect-2026@aimenta.ai
DTSTAMP:20260418T105137Z
DTSTART;VALUE=DATE:20260923
DTEND;VALUE=DATE:20260925
SUMMARY:Meta Connect 2026
LOCATION:Menlo Park, United States
DESCRIPTION:Meta's annual conference. Llama model family updates and Meta AI assistant roadmap.
URL:https://aimenta.ai/calendar/meta-connect-2026
END:VEVENT
BEGIN:VEVENT
UID:openai-devday-2026@aimenta.ai
DTSTAMP:20260418T105137Z
DTSTART;VALUE=DATE:20261006
DTEND;VALUE=DATE:20261007
SUMMARY:OpenAI DevDay 2026
LOCATION:San Francisco, United States
DESCRIPTION:OpenAI's annual developer event. New API surfaces, model launches, and agent capabilities.
URL:https://aimenta.ai/calendar/openai-devday-2026
END:VEVENT
BEGIN:VEVENT
UID:apac-ai-vc-summit-hk-2026@aimenta.ai
DTSTAMP:20260418T105137Z
DTSTART;VALUE=DATE:20261008
DTEND;VALUE=DATE:20261010
SUMMARY:APAC AI VC Summit Hong Kong 2026
LOCATION:Hong Kong, Hong Kong
DESCRIPTION:Closed-door investor + founder summit on APAC AI startup landscape. Limited capacity.
URL:https://aimenta.ai/calendar/apac-ai-vc-summit-hk-2026
END:VEVENT
BEGIN:VEVENT
UID:gtc-asia-pacific-2026@aimenta.ai
DTSTAMP:20260418T105136Z
DTSTART;VALUE=DATE:20261020
DTEND;VALUE=DATE:20261023
SUMMARY:NVIDIA GTC Asia Pacific 2026
LOCATION:Taipei, Taiwan
DESCRIPTION:NVIDIA's regional GTC. Hardware roadmap, CUDA stack updates, and APAC partner announcements.
URL:https://aimenta.ai/calendar/gtc-asia-pacific-2026
X-ALT-DESC;FMTTYPE=text/html:<a href="https://www.nvidia.com/gtc">Official website</a>
END:VEVENT
BEGIN:VEVENT
UID:hk-fintech-week-2026@aimenta.ai
DTSTAMP:20260418T105136Z
DTSTART;VALUE=DATE:20261102
DTEND;VALUE=DATE:20261107
SUMMARY:Hong Kong FinTech Week 2026
LOCATION:Hong Kong, Hong Kong
DESCRIPTION:HK's flagship fintech event with a heavy AI track. HKMA policy signals, banking AI adoption, regional virtual banks.
URL:https://aimenta.ai/calendar/hk-fintech-week-2026
X-ALT-DESC;FMTTYPE=text/html:<a href="https://www.fintechweek.hk">Official website</a>
END:VEVENT
BEGIN:VEVENT
UID:ai-summit-tokyo-2026@aimenta.ai
DTSTAMP:20260418T105136Z
DTSTART;VALUE=DATE:20261111
DTEND;VALUE=DATE:20261114
SUMMARY:AI Summit Tokyo 2026
LOCATION:Tokyo Big Sight, Tokyo, Japan
DESCRIPTION:Japan's largest enterprise AI conference. Manufacturing, robotics, and the Japanese foundation-model ecosystem.
URL:https://aimenta.ai/calendar/ai-summit-tokyo-2026
END:VEVENT
BEGIN:VEVENT
UID:asia-ai-awards-2026@aimenta.ai
DTSTAMP:20260418T105137Z
DTSTART;VALUE=DATE:20261119
DTEND;VALUE=DATE:20261120
SUMMARY:Asia AI Awards 2026
LOCATION:Singapore, Singapore
DESCRIPTION:Annual awards recognizing the most impactful enterprise AI deployments across APAC.
URL:https://aimenta.ai/calendar/asia-ai-awards-2026
END:VEVENT
BEGIN:VEVENT
UID:aws-reinvent-2026@aimenta.ai
DTSTAMP:20260418T105137Z
DTSTART;VALUE=DATE:20261130
DTEND;VALUE=DATE:20261205
SUMMARY:AWS re:Invent 2026
LOCATION:Las Vegas, United States
DESCRIPTION:AWS's annual product launch wave. Bedrock, SageMaker, Q, and the partner ecosystem.
URL:https://aimenta.ai/calendar/aws-reinvent-2026
X-ALT-DESC;FMTTYPE=text/html:<a href="https://reinvent.awsevents.com">Official website</a>
END:VEVENT
BEGIN:VEVENT
UID:neurips-2026-vancouver@aimenta.ai
DTSTAMP:20260418T105137Z
DTSTART;VALUE=DATE:20261207
DTEND;VALUE=DATE:20261214
SUMMARY:NeurIPS 2026 — Vancouver
LOCATION:Vancouver, Canada
DESCRIPTION:The largest ML research conference globally. Where the year's most-cited AI research lands.
URL:https://aimenta.ai/calendar/neurips-2026-vancouver
X-ALT-DESC;FMTTYPE=text/html:<a href="https://neurips.cc">Official website</a>
END:VEVENT
BEGIN:VEVENT
UID:davos-wef-2027@aimenta.ai
DTSTAMP:20260418T105137Z
DTSTART;VALUE=DATE:20270118
DTEND;VALUE=DATE:20270123
SUMMARY:World Economic Forum 2027 — AI Governance Track
LOCATION:Davos, Switzerland
DESCRIPTION:Annual Davos meeting with sustained AI governance and enterprise tracks.
URL:https://aimenta.ai/calendar/davos-wef-2027
END:VEVENT
BEGIN:VEVENT
UID:mwc-barcelona-2027@aimenta.ai
DTSTAMP:20260418T105137Z
DTSTART;VALUE=DATE:20270301
DTEND;VALUE=DATE:20270305
SUMMARY:Mobile World Congress 2027
LOCATION:Barcelona, Spain
DESCRIPTION:The telecom industry's annual gathering. Increasingly an on-device and edge AI showcase.
URL:https://aimenta.ai/calendar/mwc-barcelona-2027
X-ALT-DESC;FMTTYPE=text/html:<a href="https://www.mwcbarcelona.com">Official website</a>
END:VEVENT
END:VCALENDAR
